BEGIN:VCALENDAR
VERSION:2.0
PRODID:-//88.198.51.175//NONSGML kigkonsult.se iCalcreator 2.20//
CALSCALE:GREGORIAN
METHOD:PUBLISH
X-WR-TIMEZONE:Europe/Berlin
BEGIN:VEVENT
UID:event116@Schachjugend Niederrhein
DTSTAMP:20260423T233652Z
CATEGORIES:4er-MM\, Mannschaftsmeisterschaften\, U12-MM
DESCRIPTION:4er-MM U12 Trostrunde 5\nKategorie: 4er-MM\, Mannschaftsmeister
 schaften\, U12-MM\nICS-Link: https://www.sjnr.de/index.php?option=com_jem&
 view=event&id=116:4er-mm-u12-trostrunde-5\n
DTSTART;TZID=Europe/Berlin:20240225T110000
DTEND;TZID=Europe/Berlin:20240225T110000
SUMMARY:4er-MM U12 Trostrunde 5
URL:https://www.sjnr.de/index.php?option=com_jem&view=event&id=116:4er-mm-u
 12-trostrunde-5
END:VEVENT
END:VCALENDAR