BEGIN:VCALENDAR
VERSION:2.0
PRODID:-//88.198.51.175//NONSGML kigkonsult.se iCalcreator 2.20//
CALSCALE:GREGORIAN
METHOD:PUBLISH
X-WR-TIMEZONE:Europe/Berlin
BEGIN:VEVENT
UID:event124@Schachjugend Niederrhein
DTSTAMP:20260424T072354Z
CATEGORIES:4er-MM\, Mannschaftsmeisterschaften\, U10-MM
DESCRIPTION:4er-MM U10\nKategorie: 4er-MM\, Mannschaftsmeisterschaften\, U1
 0-MM\nICS-Link: https://www.sjnr.de/index.php?option=com_jem&view=event&id
 =124:4er-mm-u10\n
DTSTART;TZID=Europe/Berlin:20240908T094500
DTEND;TZID=Europe/Berlin:20240908T094500
LOCATION:Großer Saal der VHS Monheim\,Tempelhofer Str. 15\,40789 Monheim am
  Rhein
SUMMARY:4er-MM U10
URL:https://www.sjnr.de/index.php?option=com_jem&view=event&id=124:4er-mm-u
 10
END:VEVENT
END:VCALENDAR