BEGIN:VCALENDAR
VERSION:2.0
PRODID:-//88.198.51.175//NONSGML kigkonsult.se iCalcreator 2.20//
CALSCALE:GREGORIAN
METHOD:PUBLISH
X-WR-TIMEZONE:Europe/Berlin
BEGIN:VEVENT
UID:event12@Schachjugend Niederrhein
DTSTAMP:20260422T000416Z
CATEGORIES:Einzelmeisterschaften
DESCRIPTION:Einzelmeisterschaften alle außer U10 und U10w\nKategorie: Einze
 lmeisterschaften\nICS-Link: https://www.sjnr.de/index.php?option=com_jem&v
 iew=event&id=12:einzelmeisterschaften-alle-ausser-u10-und-u10w\n
DTSTART;VALUE=DATE:20200102
DTEND;VALUE=DATE:20200107
LOCATION:Jugendtagungsstätte Wolfsberg\,Wolfsbergstraße 10\,47559 Kranenbur
 g
SUMMARY:Einzelmeisterschaften alle außer U10 und U10w
URL:https://www.sjnr.de/index.php?option=com_jem&view=event&id=12:einzelmei
 sterschaften-alle-ausser-u10-und-u10w
END:VEVENT
END:VCALENDAR