BEGIN:VCALENDAR
VERSION:2.0
PRODID:-//88.198.51.175//NONSGML kigkonsult.se iCalcreator 2.20//
CALSCALE:GREGORIAN
METHOD:PUBLISH
X-WR-TIMEZONE:Europe/Berlin
BEGIN:VEVENT
UID:event142@Schachjugend Niederrhein
DTSTAMP:20260420T211455Z
CATEGORIES:4er-MM\, Mannschaftsmeisterschaften\, U14-MM
DESCRIPTION:4er-MM U14 Endrunde 2\nKategorie: 4er-MM\, Mannschaftsmeistersc
 haften\, U14-MM\nICS-Link: https://www.sjnr.de/index.php?option=com_jem&vi
 ew=event&id=142:4er-mm-u14-endrunde-2\n
DTSTART;TZID=Europe/Berlin:20250330T110000
DTEND;TZID=Europe/Berlin:20250330T110000
SUMMARY:4er-MM U14 Endrunde 2
URL:https://www.sjnr.de/index.php?option=com_jem&view=event&id=142:4er-mm-u
 14-endrunde-2
END:VEVENT
END:VCALENDAR