BEGIN:VCALENDAR
VERSION:2.0
PRODID:-//88.198.51.175//NONSGML kigkonsult.se iCalcreator 2.20//
CALSCALE:GREGORIAN
METHOD:PUBLISH
X-WR-TIMEZONE:Europe/Berlin
BEGIN:VEVENT
UID:event152@Schachjugend Niederrhein
DTSTAMP:20260424T010808Z
CATEGORIES:4er-MM\, Mannschaftsmeisterschaften\, U12-MM
DESCRIPTION:4er-MM U12 ggf. Trostrunde 8\nKategorie: 4er-MM\, Mannschaftsme
 isterschaften\, U12-MM\nICS-Link: https://www.sjnr.de/index.php?option=com
 _jem&view=event&id=152:4er-mm-u12-ggf-trostrunde-8\n
DTSTART;TZID=Europe/Berlin:20250615T110000
DTEND;TZID=Europe/Berlin:20250615T110000
SUMMARY:4er-MM U12 ggf. Trostrunde 8
URL:https://www.sjnr.de/index.php?option=com_jem&view=event&id=152:4er-mm-u
 12-ggf-trostrunde-8
END:VEVENT
END:VCALENDAR