BEGIN:VCALENDAR
VERSION:2.0
PRODID:-//88.198.51.175//NONSGML kigkonsult.se iCalcreator 2.20//
CALSCALE:GREGORIAN
METHOD:PUBLISH
X-WR-TIMEZONE:Europe/Berlin
BEGIN:VEVENT
UID:event72@Schachjugend Niederrhein
DTSTAMP:20260424T013426Z
CATEGORIES:Mannschaftsmeisterschaften\, 4er-MM\, U12-MM
DESCRIPTION:4er-MM U12 Runde 5\nKategorie: Mannschaftsmeisterschaften\, 4er
 -MM\, U12-MM\nICS-Link: https://www.sjnr.de/index.php?option=com_jem&view=
 event&id=72:4er-mm-u12-runde-5\n
DTSTART;TZID=Europe/Berlin:20230129T110000
DTEND;TZID=Europe/Berlin:20230129T110000
SUMMARY:4er-MM U12 Runde 5
URL:https://www.sjnr.de/index.php?option=com_jem&view=event&id=72:4er-mm-u1
 2-runde-5
END:VEVENT
END:VCALENDAR