BEGIN:VCALENDAR
VERSION:2.0
PRODID:-//88.198.51.175//NONSGML kigkonsult.se iCalcreator 2.20//
CALSCALE:GREGORIAN
METHOD:PUBLISH
X-WR-TIMEZONE:Europe/Berlin
BEGIN:VEVENT
UID:event87@Schachjugend Niederrhein
DTSTAMP:20260423T191810Z
CATEGORIES:4er-MM\, Mannschaftsmeisterschaften\, U12-MM\, U14-MM\, U16-MM
DESCRIPTION:4er-MM Meldeschluss Mannschaften U12\, U14\, U16 2022/2023\nKat
 egorie: 4er-MM\, Mannschaftsmeisterschaften\, U12-MM\, U14-MM\, U16-MM\nIC
 S-Link: https://www.sjnr.de/index.php?option=com_jem&view=event&id=87:4er-
 mm-meldeschluss-mannschaften-u12-u14-u16-2022-2023\n
DTSTART;VALUE=DATE:20230801
DTEND;VALUE=DATE:20230802
SUMMARY:4er-MM Meldeschluss Mannschaften U12\, U14\, U16 2022/2023
URL:https://www.sjnr.de/index.php?option=com_jem&view=event&id=87:4er-mm-me
 ldeschluss-mannschaften-u12-u14-u16-2022-2023
END:VEVENT
END:VCALENDAR