BEGIN:VCALENDAR
VERSION:2.0
PRODID:-//88.198.51.175//NONSGML kigkonsult.se iCalcreator 2.20//
CALSCALE:GREGORIAN
METHOD:PUBLISH
X-WR-TIMEZONE:Europe/Berlin
BEGIN:VEVENT
UID:event96@Schachjugend Niederrhein
DTSTAMP:20260426T040908Z
CATEGORIES:Mannschaftsmeisterschaften\, 4er-MM\, U14-MM
DESCRIPTION:4er-MM U14 Runde 3\nKategorie: Mannschaftsmeisterschaften\, 4er
 -MM\, U14-MM\nICS-Link: https://www.sjnr.de/index.php?option=com_jem&view=
 event&id=96:4er-mm-u14-runde-3\n
DTSTART;TZID=Europe/Berlin:20231022T110000
DTEND;TZID=Europe/Berlin:20231022T110000
SUMMARY:4er-MM U14 Runde 3
URL:https://www.sjnr.de/index.php?option=com_jem&view=event&id=96:4er-mm-u1
 4-runde-3
END:VEVENT
END:VCALENDAR